BEGIN:VCALENDAR
VERSION:2.0
PRODID:Dresden Technology Collections
BEGIN:VEVENT
UID:04ca4a1b-c378-442e-b704-f09270605dc6
DTSTART;TZID=Europe/Berlin:20260426T133000
DTEND;TZID=Europe/Berlin:20260426T170000
SEQUENCE:0
TRANSP:OPAQUE
LOCATION:Dresden Technology Collections (Junghansstraße 1 - 3 (entrance Schandauer Str.) 01277 Dresden)
SUMMARY:Volta column &amp; brush robot
CLASS:PUBLIC
DESCRIPTION:13:30 to 17:00Today at MACHwerk you can build brush robots and make LEDs flash with a voltaic column.Museum admission
DTSTAMP:20260422T191500Z
END:VEVENT
END:VCALENDAR
