BEGIN:VCALENDAR
VERSION:2.0
PRODID:Dresden Technology Collections
BEGIN:VEVENT
UID:30a51a2d-019a-4965-a964-42070e57dbcb
DTSTART;TZID=Europe/Berlin:20260517T133000
DTEND;TZID=Europe/Berlin:20260517T170000
SEQUENCE:0
TRANSP:OPAQUE
LOCATION:Dresden Technology Collections (Junghansstraße 1 - 3 (entrance Schandauer Str.) 01277 Dresden)
SUMMARY:Paper circuits and Ozobots
CLASS:PUBLIC
DESCRIPTION:13:30 to 17:00Today at MACHwerk you can build a paper circuit with copper tape or get to know our mini robots Ozobots and the language in which they communicate!Museum admission
DTSTAMP:20260421T173000Z
END:VEVENT
END:VCALENDAR
