BEGIN:VCALENDAR
VERSION:2.0
PRODID:Dresden Technology Collections
BEGIN:VEVENT
UID:be199efd-b30d-4f39-b701-15e321ba59e8
DTSTART;TZID=Europe/Berlin:20260524T133000
DTEND;TZID=Europe/Berlin:20260524T170000
SEQUENCE:0
TRANSP:OPAQUE
LOCATION:Dresden Technology Collections (Junghansstraße 1 - 3 (entrance Schandauer Str.) 01277 Dresden)
SUMMARY:My luminous paper object
CLASS:PUBLIC
DESCRIPTION:13:30 to 17:00Today at MACHwerk you can make your own paper object and light it up. Whether it's a jellyfish or a tetrahedron, come along and show us what you can conjure up from tracing paper, LEDs and copper tape!Museum admission
DTSTAMP:20260423T180900Z
END:VEVENT
END:VCALENDAR
