BEGIN:VCALENDAR
VERSION:2.0
PRODID:Dresden Technology Collections
BEGIN:VEVENT
UID:2f02a2c1-53ce-43bd-af8f-855821f644a4
DTSTART;TZID=Europe/Berlin:20260510T133000
DTEND;TZID=Europe/Berlin:20260510T170000
SEQUENCE:0
TRANSP:OPAQUE
LOCATION:Dresden Technology Collections (Junghansstraße 1 - 3 (entrance Schandauer Str.) 01277 Dresden)
SUMMARY:Brush robots and Ozobots
CLASS:PUBLIC
DESCRIPTION:13:30 to 17:00Today at MACHwerk you can build your own little brush robot or get to know our mini robots Ozobots and the language in which they communicate!Museum admission
DTSTAMP:20260421T183500Z
END:VEVENT
END:VCALENDAR
